View In:
ArcGIS JavaScript
ArcGIS Online Map Viewer
ArcGIS Earth
Service Description: TROPICS01BRTTL1B_91422_1657_1832
Name: TROPICS01BRTTL1B_91422_1657_1832
Description:
Single Fused Map Cache: false
Extent:
XMin: -6839441.078905855
YMin: -141813.5425215969
XMax: -2449441.0789058553
YMax: 8328186.457478403
Spatial Reference: 102100
(3857)
Initial Extent:
XMin: -6839441.078905855
YMin: -141813.5425215969
XMax: -2449441.0789058553
YMax: 8328186.457478403
Spatial Reference: 102100
(3857)
Full Extent:
XMin: -6839441.078905855
YMin: -141813.5425215969
XMax: -2449441.0789058553
YMax: 8328186.457478403
Spatial Reference: 102100
(3857)
Pixel Size X: 10000.0
Pixel Size Y: 10000.0
Band Count: 1
Pixel Type: F32
RasterFunction Infos: {"rasterFunctionInfos": [{
"name": "None",
"description": "",
"help": ""
}]}
Mensuration Capabilities: Basic
Inspection Capabilities:
Has Histograms: true
Has Colormap: false
Has Multi Dimensions : false
Rendering Rule:
Min Scale: 0
Max Scale: 0
Copyright Text:
Service Data Type: esriImageServiceDataTypeGeneric
Min Values: 191.5014190673828
Max Values: 282.40753173828125
Mean Values: 245.90573883619913
Standard Deviation Values: 12.955525313689662
Object ID Field:
Fields:
None
Default Mosaic Method: Center
Allowed Mosaic Methods:
SortField:
SortValue: null
Mosaic Operator: First
Default Compression Quality: 75
Default Resampling Method: Bilinear
Max Record Count: null
Max Image Height: 4100
Max Image Width: 15000
Max Download Image Count: null
Max Mosaic Image Count: null
Allow Raster Function: true
Allow Copy: true
Allow Analysis: true
Allow Compute TiePoints: false
Supports Statistics: false
Supports Advanced Queries: false
Use StandardizedQueries: true
Raster Type Infos:
Name: Raster Dataset
Description: Supports all ArcGIS Raster Datasets
Help:
Has Raster Attribute Table: false
Edit Fields Info: null
Ownership Based AccessControl For Rasters: null
Child Resources:
Info
Histograms
Statistics
Key Properties
Legend
Raster Function Infos
Supported Operations:
Export Image
Identify
Measure
Compute Histograms
Compute Statistics Histograms
Get Samples
Compute Class Statistics
Query Boundary
Compute Pixel Location
Compute Angles
Validate
Project