View In:
ArcGIS JavaScript
ArcGIS Online Map Viewer
ArcGIS Earth
Service Description: TROPICS01BRTTL1B_91622_0523_0658
Name: TROPICS01BRTTL1B_91622_0523_0658
Description:
Single Fused Map Cache: false
Extent:
XMin: -7943021.058041854
YMin: -35390.28306271322
XMax: -4223021.058041854
YMax: 8314609.716937287
Spatial Reference: 102100
(3857)
Initial Extent:
XMin: -7943021.058041854
YMin: -35390.28306271322
XMax: -4223021.058041854
YMax: 8314609.716937287
Spatial Reference: 102100
(3857)
Full Extent:
XMin: -7943021.058041854
YMin: -35390.28306271322
XMax: -4223021.058041854
YMax: 8314609.716937287
Spatial Reference: 102100
(3857)
Pixel Size X: 10000.0
Pixel Size Y: 10000.0
Band Count: 1
Pixel Type: F32
RasterFunction Infos: {"rasterFunctionInfos": [{
"name": "None",
"description": "",
"help": ""
}]}
Mensuration Capabilities: Basic
Inspection Capabilities:
Has Histograms: true
Has Colormap: false
Has Multi Dimensions : false
Rendering Rule:
Min Scale: 0
Max Scale: 0
Copyright Text:
Service Data Type: esriImageServiceDataTypeGeneric
Min Values: 191.37709045410156
Max Values: 273.9093322753906
Mean Values: 243.84611617014295
Standard Deviation Values: 18.556284600786395
Object ID Field:
Fields:
None
Default Mosaic Method: Center
Allowed Mosaic Methods:
SortField:
SortValue: null
Mosaic Operator: First
Default Compression Quality: 75
Default Resampling Method: Bilinear
Max Record Count: null
Max Image Height: 4100
Max Image Width: 15000
Max Download Image Count: null
Max Mosaic Image Count: null
Allow Raster Function: true
Allow Copy: true
Allow Analysis: true
Allow Compute TiePoints: false
Supports Statistics: false
Supports Advanced Queries: false
Use StandardizedQueries: true
Raster Type Infos:
Name: Raster Dataset
Description: Supports all ArcGIS Raster Datasets
Help:
Has Raster Attribute Table: false
Edit Fields Info: null
Ownership Based AccessControl For Rasters: null
Child Resources:
Info
Histograms
Statistics
Key Properties
Legend
Raster Function Infos
Supported Operations:
Export Image
Identify
Measure
Compute Histograms
Compute Statistics Histograms
Get Samples
Compute Class Statistics
Query Boundary
Compute Pixel Location
Compute Angles
Validate
Project