View In:
ArcGIS JavaScript
ArcGIS Online Map Viewer
ArcGIS Earth
Service Description: TROPICS01BRTTL1B_92222_1811_1946
Name: TROPICS01BRTTL1B_92222_1811_1946
Description:
Single Fused Map Cache: false
Extent:
XMin: -8956431.67209347
YMin: 1056024.1819483805
XMax: -3536431.6720934696
YMax: 8306024.181948381
Spatial Reference: 102100
(3857)
Initial Extent:
XMin: -8956431.67209347
YMin: 1056024.1819483805
XMax: -3536431.6720934696
YMax: 8306024.181948381
Spatial Reference: 102100
(3857)
Full Extent:
XMin: -8956431.67209347
YMin: 1056024.1819483805
XMax: -3536431.6720934696
YMax: 8306024.181948381
Spatial Reference: 102100
(3857)
Pixel Size X: 10000.0
Pixel Size Y: 10000.0
Band Count: 1
Pixel Type: F32
RasterFunction Infos: {"rasterFunctionInfos": [{
"name": "None",
"description": "",
"help": ""
}]}
Mensuration Capabilities: Basic
Inspection Capabilities:
Has Histograms: true
Has Colormap: false
Has Multi Dimensions : false
Rendering Rule:
Min Scale: 0
Max Scale: 0
Copyright Text:
Service Data Type: esriImageServiceDataTypeGeneric
Min Values: 202.66053771972656
Max Values: 271.36199951171875
Mean Values: 244.46957127135244
Standard Deviation Values: 16.625863454917475
Object ID Field:
Fields:
None
Default Mosaic Method: Center
Allowed Mosaic Methods:
SortField:
SortValue: null
Mosaic Operator: First
Default Compression Quality: 75
Default Resampling Method: Bilinear
Max Record Count: null
Max Image Height: 4100
Max Image Width: 15000
Max Download Image Count: null
Max Mosaic Image Count: null
Allow Raster Function: true
Allow Copy: true
Allow Analysis: true
Allow Compute TiePoints: false
Supports Statistics: false
Supports Advanced Queries: false
Use StandardizedQueries: true
Raster Type Infos:
Name: Raster Dataset
Description: Supports all ArcGIS Raster Datasets
Help:
Has Raster Attribute Table: false
Edit Fields Info: null
Ownership Based AccessControl For Rasters: null
Child Resources:
Info
Histograms
Statistics
Key Properties
Legend
Raster Function Infos
Supported Operations:
Export Image
Identify
Measure
Compute Histograms
Compute Statistics Histograms
Get Samples
Compute Class Statistics
Query Boundary
Compute Pixel Location
Compute Angles
Validate
Project