View In:
ArcGIS JavaScript
ArcGIS Online Map Viewer
ArcGIS Earth
Service Description: TROPICS01BRTTL1B_92322_0651_0827
Name: TROPICS01BRTTL1B_92322_0651_0827
Description:
Single Fused Map Cache: false
Extent:
XMin: -9829597.325146489
YMin: 1006754.7629474876
XMax: -6929597.325146489
YMax: 5346754.762947488
Spatial Reference: 102100
(3857)
Initial Extent:
XMin: -9829597.325146489
YMin: 1006754.7629474876
XMax: -6929597.325146489
YMax: 5346754.762947488
Spatial Reference: 102100
(3857)
Full Extent:
XMin: -9829597.325146489
YMin: 1006754.7629474876
XMax: -6929597.325146489
YMax: 5346754.762947488
Spatial Reference: 102100
(3857)
Pixel Size X: 10000.0
Pixel Size Y: 10000.0
Band Count: 1
Pixel Type: F32
RasterFunction Infos: {"rasterFunctionInfos": [{
"name": "None",
"description": "",
"help": ""
}]}
Mensuration Capabilities: Basic
Inspection Capabilities:
Has Histograms: true
Has Colormap: false
Has Multi Dimensions : false
Rendering Rule:
Min Scale: 0
Max Scale: 0
Copyright Text:
Service Data Type: esriImageServiceDataTypeGeneric
Min Values: 162.63235473632812
Max Values: 272.093994140625
Mean Values: 251.2102127102533
Standard Deviation Values: 14.46157974396392
Object ID Field:
Fields:
None
Default Mosaic Method: Center
Allowed Mosaic Methods:
SortField:
SortValue: null
Mosaic Operator: First
Default Compression Quality: 75
Default Resampling Method: Bilinear
Max Record Count: null
Max Image Height: 4100
Max Image Width: 15000
Max Download Image Count: null
Max Mosaic Image Count: null
Allow Raster Function: true
Allow Copy: true
Allow Analysis: true
Allow Compute TiePoints: false
Supports Statistics: false
Supports Advanced Queries: false
Use StandardizedQueries: true
Raster Type Infos:
Name: Raster Dataset
Description: Supports all ArcGIS Raster Datasets
Help:
Has Raster Attribute Table: false
Edit Fields Info: null
Ownership Based AccessControl For Rasters: null
Child Resources:
Info
Histograms
Statistics
Key Properties
Legend
Raster Function Infos
Supported Operations:
Export Image
Identify
Measure
Compute Histograms
Compute Statistics Histograms
Get Samples
Compute Class Statistics
Query Boundary
Compute Pixel Location
Compute Angles
Validate
Project